BEGIN:VCALENDAR
VERSION:2.0
PRODID:-//Seed World - ECPv6.15.20//NONSGML v1.0//EN
CALSCALE:GREGORIAN
METHOD:PUBLISH
X-WR-CALNAME:Seed World
X-ORIGINAL-URL:https://www.seedworld.com
X-WR-CALDESC:Events for Seed World
REFRESH-INTERVAL;VALUE=DURATION:PT1H
X-Robots-Tag:noindex
X-PUBLISHED-TTL:PT1H
BEGIN:VTIMEZONE
TZID:America/Winnipeg
BEGIN:DAYLIGHT
TZOFFSETFROM:-0600
TZOFFSETTO:-0500
TZNAME:CDT
DTSTART:20250309T080000
END:DAYLIGHT
BEGIN:STANDARD
TZOFFSETFROM:-0500
TZOFFSETTO:-0600
TZNAME:CST
DTSTART:20251102T070000
END:STANDARD
BEGIN:DAYLIGHT
TZOFFSETFROM:-0600
TZOFFSETTO:-0500
TZNAME:CDT
DTSTART:20260308T080000
END:DAYLIGHT
BEGIN:STANDARD
TZOFFSETFROM:-0500
TZOFFSETTO:-0600
TZNAME:CST
DTSTART:20261101T070000
END:STANDARD
BEGIN:DAYLIGHT
TZOFFSETFROM:-0600
TZOFFSETTO:-0500
TZNAME:CDT
DTSTART:20270314T080000
END:DAYLIGHT
BEGIN:STANDARD
TZOFFSETFROM:-0500
TZOFFSETTO:-0600
TZNAME:CST
DTSTART:20271107T070000
END:STANDARD
END:VTIMEZONE
BEGIN:VEVENT
DTSTART;VALUE=DATE:20260518
DTEND;VALUE=DATE:20260519
DTSTAMP:20260422T112630
CREATED:20251215T225920Z
LAST-MODIFIED:20251216T155919Z
UID:102137-1779062400-1779148799@www.seedworld.com
SUMMARY:International Seed Federation World Seed Congress 2026
DESCRIPTION:The ISF World Seed Congress is the annual meeting point for the global seed industry\, bringing together business leaders\, policy makers\, scientists\, and partners from across the value chain. Established in 1924\, the Congress serves as a unique platform for dialogue\, trade\, collaboration\, and knowledge exchange. \nEach year\, it provides unparalleled opportunities to connect\, share expertise\, and shape the discussions that drive innovation and sustainability in the seed sector. Through plenary sessions\, panel discussions\, and thousands of business meetings\, the Congress fosters partnerships and collective action toward a more resilient and food-secure future.
URL:https://www.seedworld.com/calendar_event/international-seed-federation-world-seed-congress-2024/
LOCATION:Lisbon\, Portugal\, Lisbon\, Portugal
CATEGORIES:Canada,Europe,Global,LatAm,U.S.
END:VEVENT
END:VCALENDAR