BEGIN:VCALENDAR
VERSION:2.0
PRODID:-//Seed World - ECPv6.15.20//NONSGML v1.0//EN
CALSCALE:GREGORIAN
METHOD:PUBLISH
X-ORIGINAL-URL:https://www.seedworld.com
X-WR-CALDESC:Events for Seed World
REFRESH-INTERVAL;VALUE=DURATION:PT1H
X-Robots-Tag:noindex
X-PUBLISHED-TTL:PT1H
BEGIN:VTIMEZONE
TZID:America/Winnipeg
BEGIN:DAYLIGHT
TZOFFSETFROM:-0600
TZOFFSETTO:-0500
TZNAME:CDT
DTSTART:20250309T080000
END:DAYLIGHT
BEGIN:STANDARD
TZOFFSETFROM:-0500
TZOFFSETTO:-0600
TZNAME:CST
DTSTART:20251102T070000
END:STANDARD
BEGIN:DAYLIGHT
TZOFFSETFROM:-0600
TZOFFSETTO:-0500
TZNAME:CDT
DTSTART:20260308T080000
END:DAYLIGHT
BEGIN:STANDARD
TZOFFSETFROM:-0500
TZOFFSETTO:-0600
TZNAME:CST
DTSTART:20261101T070000
END:STANDARD
BEGIN:DAYLIGHT
TZOFFSETFROM:-0600
TZOFFSETTO:-0500
TZNAME:CDT
DTSTART:20270314T080000
END:DAYLIGHT
BEGIN:STANDARD
TZOFFSETFROM:-0500
TZOFFSETTO:-0600
TZNAME:CST
DTSTART:20271107T070000
END:STANDARD
END:VTIMEZONE
BEGIN:VEVENT
DTSTART;VALUE=DATE:20260208
DTEND;VALUE=DATE:20260211
DTSTAMP:20260422T142336
CREATED:20250107T194458Z
LAST-MODIFIED:20251216T161935Z
UID:110729-1770508800-1770767999@www.seedworld.com
SUMMARY:100th Annual Pacific Seed Association (PSA) Convention
DESCRIPTION:In 2026\, the Pacific Seed Association proudly celebrates a century of connection\, collaboration\, and leadership in the seed industry. The 100th Annual Convention will bring together professionals from across the Western United States and beyond to reflect on our history\, discuss current challenges\, and shape the future of seed. \nThis milestone event offers a unique opportunity for seed growers\, researchers\, marketers\, and industry partners to network\, learn\, and engage with key topics impacting agriculture and seed production. Attendees can expect a dynamic mix of educational sessions\, business meetings\, and social events\, all designed to strengthen relationships and support innovation across the industry. \nSpecial recognitions\, historical highlights\, and centennial celebrations will make this year’s convention one to remember.
URL:https://www.seedworld.com/calendar_event/99th-annual-pacific-seed-association-psa-convention/
LOCATION:Honolulu\, USA\, Honolulu\, HI\, United States
CATEGORIES:Canada,Global,LatAm,U.S.
END:VEVENT
END:VCALENDAR