BEGIN:VCALENDAR
VERSION:2.0
PRODID:-//Seed World - ECPv6.15.20//NONSGML v1.0//EN
CALSCALE:GREGORIAN
METHOD:PUBLISH
X-WR-CALNAME:Seed World
X-ORIGINAL-URL:https://www.seedworld.com
X-WR-CALDESC:Events for Seed World
REFRESH-INTERVAL;VALUE=DURATION:PT1H
X-Robots-Tag:noindex
X-PUBLISHED-TTL:PT1H
BEGIN:VTIMEZONE
TZID:America/Winnipeg
BEGIN:DAYLIGHT
TZOFFSETFROM:-0600
TZOFFSETTO:-0500
TZNAME:CDT
DTSTART:20230312T080000
END:DAYLIGHT
BEGIN:STANDARD
TZOFFSETFROM:-0500
TZOFFSETTO:-0600
TZNAME:CST
DTSTART:20231105T070000
END:STANDARD
BEGIN:DAYLIGHT
TZOFFSETFROM:-0600
TZOFFSETTO:-0500
TZNAME:CDT
DTSTART:20240310T080000
END:DAYLIGHT
BEGIN:STANDARD
TZOFFSETFROM:-0500
TZOFFSETTO:-0600
TZNAME:CST
DTSTART:20241103T070000
END:STANDARD
BEGIN:DAYLIGHT
TZOFFSETFROM:-0600
TZOFFSETTO:-0500
TZNAME:CDT
DTSTART:20250309T080000
END:DAYLIGHT
BEGIN:STANDARD
TZOFFSETFROM:-0500
TZOFFSETTO:-0600
TZNAME:CST
DTSTART:20251102T070000
END:STANDARD
BEGIN:DAYLIGHT
TZOFFSETFROM:-0600
TZOFFSETTO:-0500
TZNAME:CDT
DTSTART:20260308T080000
END:DAYLIGHT
BEGIN:STANDARD
TZOFFSETFROM:-0500
TZOFFSETTO:-0600
TZNAME:CST
DTSTART:20261101T070000
END:STANDARD
BEGIN:DAYLIGHT
TZOFFSETFROM:-0600
TZOFFSETTO:-0500
TZNAME:CDT
DTSTART:20270314T080000
END:DAYLIGHT
BEGIN:STANDARD
TZOFFSETFROM:-0500
TZOFFSETTO:-0600
TZNAME:CST
DTSTART:20271107T070000
END:STANDARD
END:VTIMEZONE
BEGIN:VTIMEZONE
TZID:Australia/Brisbane
BEGIN:STANDARD
TZOFFSETFROM:+1000
TZOFFSETTO:+1000
TZNAME:AEST
DTSTART:20230101T000000
END:STANDARD
END:VTIMEZONE
BEGIN:VEVENT
DTSTART;TZID=America/Winnipeg:20261214T000000
DTEND;TZID=America/Winnipeg:20261217T235900
DTSTAMP:20260422T094723
CREATED:20251215T225920Z
LAST-MODIFIED:20251215T225924Z
UID:102242-1797206400-1797551940@www.seedworld.com
SUMMARY:American Seed Trade Association Field Crop Seed Convention 2026
DESCRIPTION:Join over 3\,000 seed industry professionals every December for America’s largest seed industry conference. Participants from the most seasoned seed industry representative to new hires will benefit from attending this exciting week of education\, collaboration\, and networking!
URL:https://www.seedworld.com/calendar_event/american-seed-trade-association-field-crop-seed-convention-2024/
CATEGORIES:Canada,Europe,Global,LatAm,U.S.
END:VEVENT
BEGIN:VEVENT
DTSTART;VALUE=DATE:20241202
DTEND;VALUE=DATE:20241207
DTSTAMP:20260422T094723
CREATED:20240127T163903Z
LAST-MODIFIED:20240127T163903Z
UID:102239-1733097600-1733529599@www.seedworld.com
SUMMARY:Asian Pacific Seed Association (APSA) Seed Congress 2024
DESCRIPTION:APSA’s annual Asian Seed Congress is the largest and most significant seed industry event in the world\, and is a prime opportunity to grow your business\, get noticed\, generate deals and gain an edge in the most populous and lucrative region in the world. From India to China\, Turkey to Australia\, Kyrgyzstan to Sri Lanka\, Philippines to Pakistan\, Thailand to Japan – the people that matter the most in the movement of seed to/from the Asia Pacific are there.
URL:https://www.seedworld.com/calendar_event/asian-pacific-seed-association-apsa-seed-congress-2024/
CATEGORIES:Canada,Europe,Global,LatAm,U.S.
END:VEVENT
BEGIN:VEVENT
DTSTART;VALUE=DATE:20241112
DTEND;VALUE=DATE:20241114
DTSTAMP:20260422T094723
CREATED:20241016T190413Z
LAST-MODIFIED:20241031T135752Z
UID:109028-1731369600-1731542399@www.seedworld.com
SUMMARY:Indiana Crop Improvement Association’s Corn Belt Seed Conference and 125th Anniversary Celebration
DESCRIPTION:Education and Networking. \n\n\n\nFor 125 years\, we have brought together generations\nof thought leaders and innovators.We understand the value and importance of connecting. \nYour success remains centric to our commitment in providing educational and networking opportunites that create solid solutions for continued growth among your teams and in your business. \nPlan now to join us for a special 125th Celebration event as we connect at the Corn Belt Seed Conference. \n\n\n\n\n\nFeatured Products and Services. \n\n\n\nWe invite you to showcase your company brand\, products\, services\, and cutting-edge technology during  the Corn Belt Seed Conference!  This event will feature networking sessions to connect you + ag industry leaders in a convenient tradeshow setting. \nSelect the links below to learn more about the many sponsorship and exhibitor features! Don’t miss your opportunity to be a part of this exciting event! \n\n\n\nMore information and registration here
URL:https://www.seedworld.com/calendar_event/indiana-crop-improvement-associations-corn-belt-seed-conference-and-125th-anniversary-celebration/
LOCATION:Marriott Indianapolis North\, 3645 River Crossing Pkwy\, Indianapolis\, IN\, 46240\, United States
CATEGORIES:Canada,Global,U.S.
END:VEVENT
BEGIN:VEVENT
DTSTART;VALUE=DATE:20241112
DTEND;VALUE=DATE:20241114
DTSTAMP:20260422T094723
CREATED:20240801T144649Z
LAST-MODIFIED:20240806T135728Z
UID:107461-1731369600-1731542399@www.seedworld.com
SUMMARY:International Conference on Contract Farming
DESCRIPTION:Themed Revitalizing African Agriculture: Time for Bold Action\, the International Conference on Contract Farming (ICCF 2024) aims to seed solutions for accelerating Africa’s agricultural growth. With 45% of the world’s arable land but lowest productivity rates\, Africa has immense potential that contract farming can unlock. \nICCF 2024 will address opportunities and challenges\, galvanizing action and new partnerships to build a vibrant African farm economy. It provides a vital platform for the entire value chain – growers\, agribusinesses\, financiers\, policymakers\, and experts – to network\, share insights\, and forge deals that improve livelihoods through sustainable contract farming models. \nThe conference goals are fighting poverty\, boosting jobs\, yields and incomes for Africa’s smallholder farmers through collaborative solutions. Join decision-makers shaping the future of agriculture on the continent.
URL:https://www.seedworld.com/calendar_event/international-conference-on-contract-farming/
LOCATION:The Edge Convention Centre\, Red Cross Road\, Nairobi\, South C\, Kenya
CATEGORIES:Canada,Europe,Global,LatAm,U.S.
END:VEVENT
BEGIN:VEVENT
DTSTART;TZID=America/Winnipeg:20261104T000000
DTEND;TZID=America/Winnipeg:20261104T235900
DTSTAMP:20260422T094723
CREATED:20251215T225920Z
LAST-MODIFIED:20251215T225924Z
UID:102233-1793750400-1793836740@www.seedworld.com
SUMMARY:American Seed Trade Association (ASTA) Forage\, Turf and Conservation Seed Conference 2026
DESCRIPTION:Networking and learning about innovations in the grass seed business are what drive attendees to ASTA’s annual fall conference in Kansas City\, held in conjunction with the Western Seed Association’s annual meeting. More information coming soon!
URL:https://www.seedworld.com/calendar_event/american-seed-trade-association-asta-forage-turf-and-conservation-seed-conference-2024/
CATEGORIES:Canada,Europe,Global,LatAm,U.S.
END:VEVENT
BEGIN:VEVENT
DTSTART;TZID=America/Winnipeg:20261116T000000
DTEND;TZID=America/Winnipeg:20261120T235900
DTSTAMP:20260422T094723
CREATED:20251215T225920Z
LAST-MODIFIED:20251215T225924Z
UID:102236-1794787200-1795219140@www.seedworld.com
SUMMARY:Western Seed Assocation Annual Convention ('the Western')
DESCRIPTION:The Western Seed Association Convention is one of the largest gathering of seedsman in the country. The first convention started in 1899 in Kansas City\, MO and this convention will be their 124th year in Kansas City.
URL:https://www.seedworld.com/calendar_event/western-seed-assocation-annual-convention-the-western/
CATEGORIES:U.S.
END:VEVENT
BEGIN:VEVENT
DTSTART;TZID=America/Winnipeg:20261025T000000
DTEND;TZID=America/Winnipeg:20261028T235900
DTSTAMP:20260422T094723
CREATED:20251215T225920Z
LAST-MODIFIED:20251215T225923Z
UID:102230-1792886400-1793231940@www.seedworld.com
SUMMARY:Euroseeds Congress 2026
DESCRIPTION:Euroseeds is the voice of the European seed sector. We therefore represent the interests of those active in research\, breeding\, production and marketing of seeds of agricultural\, horticultural and ornamental plant species.\nToday\, Euroseeds\, with more than 30 national member associations from EU Members States and beyond\, represents several thousand seed businesses\, as well as more than 70 direct company members\, including from seed related industries.
URL:https://www.seedworld.com/calendar_event/euroseeds-congress-2024/
CATEGORIES:Canada,Europe,Global,LatAm,U.S.
END:VEVENT
BEGIN:VEVENT
DTSTART;VALUE=DATE:20240910
DTEND;VALUE=DATE:20240914
DTSTAMP:20260422T094723
CREATED:20240127T162500Z
LAST-MODIFIED:20240127T162500Z
UID:102227-1725926400-1726271999@www.seedworld.com
SUMMARY:Brazilian Seed Technology Association Congress 2024
DESCRIPTION:
URL:https://www.seedworld.com/calendar_event/brazilian-seed-technology-association-congress-2024/
LOCATION:Foz do Iguacu Brazil\, TBD\, Foz do Iguacu\, Brazil
CATEGORIES:Global,LatAm,U.S.
END:VEVENT
BEGIN:VEVENT
DTSTART;VALUE=DATE:20240827
DTEND;VALUE=DATE:20240831
DTSTAMP:20260422T094723
CREATED:20240318T214806Z
LAST-MODIFIED:20240318T214824Z
UID:104430-1724716800-1725062399@www.seedworld.com
SUMMARY:Australian Seed Federation (ASF) Seed Business 2024 Convention
DESCRIPTION:Seed Business is an annual 3-day industry convention  traditionally held in late August in various locations around Australia. \nThe Convention is the highlight event for Australian Seed Federation (ASF) members to network with other businesses within the seed and agriculture industry. The Convention is also an opportunity for ASF members to engage on industry issues and policy development.
URL:https://www.seedworld.com/calendar_event/australian-seed-federation-asf-seed-business-2024-convention/
LOCATION:Mooloolaba\, Sunshine Coast\, Queensland\, Mooloolaba\, Sunshine Coast\, Queensland\, Australia
CATEGORIES:Canada,Europe,Global,LatAm,U.S.
END:VEVENT
BEGIN:VEVENT
DTSTART;TZID=America/Winnipeg:20260210T000000
DTEND;TZID=America/Winnipeg:20260208T235900
DTSTAMP:20260422T094723
CREATED:20251215T225920Z
LAST-MODIFIED:20251215T225920Z
UID:102114-1770681600-1770595140@www.seedworld.com
SUMMARY:Pacific Seed Association Annual Conference
DESCRIPTION:Our convention program has been carefully crafted to showcase topics of interest for everyone – including hiring strategies\, attracting and retaining talent\, irrigation management in drought conditions to maximize crop yields\, legislative updates\, seed treatment and environmental updates\, AI in Agriculture\, our PSA Annual Meeting and field crop reports.
URL:https://www.seedworld.com/calendar_event/pacific-seed-association-annual-conference/
CATEGORIES:U.S.
END:VEVENT
END:VCALENDAR